Felt | Verdi |
AlreadyApplied | True |
Aperture | 2.8 |
ApertureValue | 2.8 |
Artist | Roy Sigurd Karlsbakk |
BitsPerSample | 8 |
BlueHue | 0 |
BlueSaturation | 0 |
Brightness | -59 |
By-line | Roy Sigurd Karlsbakk |
CameraProfile | ACR 2.4 |
ChromaticAberrationB | 0 |
ChromaticAberrationR | 0 |
CircleOfConfusion | 0.019 mm |
Clarity | 0 |
ColorComponents | 3 |
ColorNoiseReduction | 25 |
ColorTemperature | 6750 |
Contrast | +86 |
ConvertToGrayscale | True |
Copyright | Roy Sigurd Karlsbakk |
CopyrightNotice | Roy Sigurd Karlsbakk |
CreateDate | 2007:02:10 00:31:44 |
Creator | Roy Sigurd Karlsbakk |
CreatorAddress | Glads Vei 64 |
CreatorCity | Oslo |
CreatorCountry | Norway |
CreatorPostalCode | 0489 |
CreatorTool | Adobe Photoshop Lightroom |
CreatorWorkEmail | roy@karlsbakk.net |
CreatorWorkTelephone | (+47) 98013356 |
CustomRendered | Normal |
DateTimeDigitized | 2007:02:10 00:31:44+01:00 |
DateTimeOriginal (1) | 2007:02:10 00:31:44+01:00 |
DateTimeOriginal | 2007:02:10 00:31:44 |
Defringe | 0 |
Exposure | 0.00 |
ExposureCompensation | 0 |
ExposureMode | Auto |
ExposureProgram | Aperture-priority AE |
ExposureTime | 1/125 |
FillLight | 0 |
Firmware | 1.1.0 |
Flash | Off, Did not fire |
FlashCompensation | 0 |
FlashFired | False |
FlashFunction | False |
FlashMode | Off |
FlashRedEyeMode | False |
FlashReturn | No return detection |
FNumber | 2.8 |
FocalLength | 85.0 mm |
FocalLength35efl | 85.0 mm (35 mm equivalent: 136.1 mm) |
FOV | 15.1 deg |
GrayMixerAqua | -4 |
GrayMixerBlue | +50 |
GrayMixerGreen | -39 |
GrayMixerMagenta | +15 |
GrayMixerOrange | -34 |
GrayMixerPurple | +48 |
GrayMixerRed | -20 |
GrayMixerYellow | -40 |
GreenHue | 0 |
GreenSaturation | 0 |
HasCrop | False |
HasSettings | True |
HighlightRecovery | 0 |
HyperfocalDistance | 137.54 m |
ImageHeight | 768 |
ImageNumber | 92 |
ImageSize | 512x768 |
ImageWidth | 512 |
ISO | 1600 |
Label | Bilder fra konsert med Rockettothesky, Kampen Bistro |
Lens | 85.0 mm |
LensInfo | 85mm f/? |
LightValue | 5.9 |
LuminanceSmoothing | 0 |
Make | Canon |
Marked | True |
Megapixels | 0.393 |
MeteringMode | Multi-segment |
Model | Canon EOS 20D |
ModifyDate (1) | 2008:08:28 14:20:55+02:00 |
ModifyDate | 2008:08:28 14:20:55 |
OwnerName | unknown |
ParametricDarks | -2 |
ParametricHighlights | 0 |
ParametricHighlightSplit | 75 |
ParametricLights | +2 |
ParametricMidtoneSplit | 50 |
ParametricShadows | 0 |
ParametricShadowSplit | 25 |
ProfileDescription | sRGB IEC61966-2.1 |
Rating | 3 |
RedHue | 0 |
RedSaturation | 0 |
Rights | Roy Sigurd Karlsbakk |
ScaleFactor35efl | 1.6 |
SceneCaptureType | Standard |
SerialNumber | 430111203 |
Shadows | 5 |
ShadowTint | 0 |
SharpenDetail | 25 |
SharpenEdgeMasking | 0 |
SharpenRadius | +1.0 |
Sharpness | 25 |
ShutterSpeed | 1/125 |
ShutterSpeedValue | 1/125 |
SplitToningBalance | 0 |
SplitToningHighlightHue | 55 |
SplitToningHighlightSaturation | 50 |
SplitToningShadowHue | 55 |
SplitToningShadowSaturation | 63 |
Tint | -10 |
ToneCurve | 0, 0, 255, 255 |
ToneCurveName | Linear |
Version | 4.4.1 |
VignetteAmount | 0 |
WhiteBalance (2) | As Shot |
WhiteBalance | Auto |