Felt | Verdi |
AlreadyApplied | True |
Aperture | 4.5 |
ApertureValue | 4.5 |
BitsPerSample | 8 |
BlueHue | 0 |
BlueSaturation | 0 |
Brightness | +50 |
CameraProfile | ACR 4.4 |
ChromaticAberrationB | 0 |
ChromaticAberrationR | 0 |
CircleOfConfusion | 0.019 mm |
Clarity | 0 |
ColorComponents | 3 |
ColorMode | RGB |
ColorNoiseReduction | 100 |
ColorSpace | Uncalibrated |
ColorTemperature | 5650 |
Contrast | +48 |
ConvertToGrayscale | False |
CreateDate (1) | 2009:09:06 18:28:51.96+02:00 |
CreateDate | 2009:09:06 18:28:51 |
CropAngle | 0 |
CropBottom | 0.812285 |
CropLeft | 0.175292 |
CropRight | 0.987343 |
CropTop | 0.029489 |
CustomRendered | Normal |
DateTimeDigitized | 2009:09:06 18:28:51.96+02:00 |
DateTimeOriginal (1) | 2009:09:06 18:28:51.96+02:00 |
DateTimeOriginal | 2009:09:06 18:28:51 |
Defringe | 0 |
ExifImageHeight | 2229 |
ExifImageWidth | 3469 |
Exposure | 0.00 |
ExposureCompensation | 0 |
ExposureMode | Manual |
ExposureProgram | Manual |
ExposureTime | 1/500 |
FillLight | 0 |
Firmware | 1.0.9 |
Flash | Off, Did not fire |
FlashCompensation | 0 |
FlashFired | False |
FlashFunction | False |
FlashMode | Off |
FlashRedEyeMode | False |
FlashReturn | No return detection |
FNumber | 4.5 |
FocalLength | 34.0 mm |
FocalLength35efl | 34.0 mm (35 mm equivalent: 54.9 mm) |
Format | image/jpeg |
FOV | 36.3 deg |
GreenHue | 0 |
GreenSaturation | 0 |
HasCrop | True |
HasSettings | True |
HighlightRecovery | 0 |
HueAdjustmentAqua | -99 |
HueAdjustmentBlue | -93 |
HueAdjustmentGreen | -94 |
HueAdjustmentMagenta | -96 |
HueAdjustmentOrange | -5 |
HueAdjustmentPurple | -98 |
HueAdjustmentRed | -58 |
HueAdjustmentYellow | -33 |
HyperfocalDistance | 13.81 m |
ICCProfileName | Adobe RGB (1998) |
ImageHeight | 2229 |
ImageNumber | 0 |
ImageSize | 3469x2229 |
ImageWidth | 3469 |
ISO | 400 |
Lens | EF-S18-55mm f/3.5-5.6 IS |
LensInfo | 18-55mm f/? |
LightValue | 11.3 |
LuminanceAdjustmentAqua | 0 |
LuminanceAdjustmentBlue | 0 |
LuminanceAdjustmentGreen | 0 |
LuminanceAdjustmentMagenta | 0 |
LuminanceAdjustmentOrange | 0 |
LuminanceAdjustmentPurple | 0 |
LuminanceAdjustmentRed | 0 |
LuminanceAdjustmentYellow | 0 |
LuminanceSmoothing | 100 |
Make | Canon |
MaxApertureValue | 4.6 |
Megapixels | 7.7 |
MeteringMode | Spot |
Model | Canon EOS 450D |
ModifyDate (1) | 2009:09:13 11:53:28+02:00 |
ModifyDate | 2009:09:13 11:53:28 |
Orientation | Horizontal (normal) |
ParametricDarks | 0 |
ParametricHighlights | 0 |
ParametricHighlightSplit | 75 |
ParametricLights | 0 |
ParametricMidtoneSplit | 50 |
ParametricShadows | 0 |
ParametricShadowSplit | 25 |
PostCropVignetteAmount | -25 |
PostCropVignetteFeather | 50 |
PostCropVignetteMidpoint | 50 |
PostCropVignetteRoundness | 0 |
ProfileDescription | Adobe RGB (1998) |
Rating | 0 |
RawFileName | Burningcar.dng |
RedHue | +4 |
RedSaturation | 0 |
Saturation | 0 |
SaturationAdjustmentAqua | 0 |
SaturationAdjustmentBlue | 0 |
SaturationAdjustmentGreen | 0 |
SaturationAdjustmentMagenta | 0 |
SaturationAdjustmentOrange | 0 |
SaturationAdjustmentPurple | 0 |
SaturationAdjustmentRed | 0 |
SaturationAdjustmentYellow | 0 |
ScaleFactor35efl | 1.6 |
SceneCaptureType | Standard |
SerialNumber | 1080335570 |
Shadows | 5 |
ShadowTint | 0 |
SharpenDetail | 25 |
SharpenEdgeMasking | 0 |
SharpenRadius | +1.0 |
Sharpness | 25 |
ShutterSpeed | 1/500 |
ShutterSpeedValue | 1/500 |
Software | Adobe Photoshop CS4 Macintosh |
SplitToningBalance | 0 |
SplitToningHighlightHue | 0 |
SplitToningHighlightSaturation | 0 |
SplitToningShadowHue | 0 |
SplitToningShadowSaturation | 0 |
Tint | -7 |
ToneCurve | 0, 0, 32, 22, 64, 56, 128, 128, 192, 196, 255, 255 |
ToneCurveName | Medium Contrast |
URL_List | |
Version | 5.0 |
Vibrance | 0 |
VignetteAmount | -100 |
VignetteMidpoint | 0 |
WhiteBalance (2) | As Shot |
WhiteBalance | Auto |