Felt | Verdi |
AlreadyApplied | True |
Aperture | 6.3 |
ApertureValue | 6.3 |
Artist | Andreas Wara Eliseussen |
BitsPerSample | 8 |
BlueHue | 0 |
BlueSaturation | 0 |
Brightness | +50 |
By-line | Andreas Wara Eliseussen |
CameraProfile | Adobe Standard |
ChromaticAberrationB | 0 |
ChromaticAberrationR | 0 |
CircleOfConfusion | 0.019 mm |
Clarity | +100 |
ColorComponents | 3 |
ColorMode | RGB |
ColorNoiseReduction | 95 |
ColorSpace | Uncalibrated |
ColorTemperature | 4200 |
Contrast | +25 |
ConvertToGrayscale | False |
CreateDate (1) | 2009:12:02 19:23:21.94+01:00 |
CreateDate | 2009:12:02 19:23:21 |
Creator | Andreas Wara Eliseussen |
CustomRendered | Normal |
DateTimeDigitized | 2009:12:02 19:23:21.94+01:00 |
DateTimeOriginal (1) | 2009:12:02 19:23:21.94+01:00 |
DateTimeOriginal | 2009:12:02 19:23:21 |
Defringe | 0 |
ExifImageHeight | 3168 |
ExifImageWidth | 4752 |
Exposure | +0.40 |
ExposureCompensation | 0 |
ExposureMode | Manual |
ExposureProgram | Manual |
ExposureTime | 30 |
FillLight | 36 |
Firmware | 1.0.9 |
Flash | Off, Did not fire |
FlashCompensation | 0 |
FlashFired | False |
FlashFunction | False |
FlashMode | Off |
FlashRedEyeMode | False |
FlashReturn | No return detection |
FNumber | 6.3 |
FocalLength | 50.0 mm |
FocalLength35efl | 50.0 mm (35 mm equivalent: 79.4 mm) |
Format | image/jpeg |
FOV | 25.5 deg |
GreenHue | 0 |
GreenSaturation | 0 |
HasCrop | False |
HasSettings | True |
HighlightRecovery | 0 |
HueAdjustmentAqua | 0 |
HueAdjustmentBlue | 0 |
HueAdjustmentGreen | 0 |
HueAdjustmentMagenta | 0 |
HueAdjustmentOrange | 0 |
HueAdjustmentPurple | 0 |
HueAdjustmentRed | +2 |
HueAdjustmentYellow | 0 |
HyperfocalDistance | 20.97 m |
ICCProfileName | Adobe RGB (1998) |
ImageHeight | 3168 |
ImageNumber | 0 |
ImageSize | 4752x3168 |
ImageWidth | 4752 |
ISO | 200 |
Lens | EF50mm f/1.8 II |
LensInfo | 50mm f/? |
LightValue | -0.6 |
LuminanceAdjustmentAqua | 0 |
LuminanceAdjustmentBlue | 0 |
LuminanceAdjustmentGreen | 0 |
LuminanceAdjustmentMagenta | 0 |
LuminanceAdjustmentOrange | 0 |
LuminanceAdjustmentPurple | 0 |
LuminanceAdjustmentRed | 0 |
LuminanceAdjustmentYellow | 0 |
LuminanceSmoothing | 100 |
Make | Canon |
MaxApertureValue | 1.8 |
Megapixels | 15.1 |
MeteringMode | Spot |
Model | Canon EOS 500D |
ModifyDate (1) | 2009:12:02 21:15:59+01:00 |
ModifyDate | 2009:12:02 21:15:59 |
Orientation | Horizontal (normal) |
OwnerName | Andreas Wara Eliseussen |
ParametricDarks | 0 |
ParametricHighlights | 0 |
ParametricHighlightSplit | 75 |
ParametricLights | 0 |
ParametricMidtoneSplit | 50 |
ParametricShadows | +49 |
ParametricShadowSplit | 25 |
PostCropVignetteAmount | 0 |
ProfileDescription | Adobe RGB (1998) |
Rating | 0 |
RawFileName | _MG_0005.CR2 |
RedHue | 0 |
RedSaturation | 0 |
Saturation | -52 |
SaturationAdjustmentAqua | -13 |
SaturationAdjustmentBlue | -3 |
SaturationAdjustmentGreen | 0 |
SaturationAdjustmentMagenta | 0 |
SaturationAdjustmentOrange | 0 |
SaturationAdjustmentPurple | 0 |
SaturationAdjustmentRed | 0 |
SaturationAdjustmentYellow | 0 |
ScaleFactor35efl | 1.6 |
SceneCaptureType | Standard |
SerialNumber | 530121800 |
Shadows | 5 |
ShadowTint | 0 |
SharpenDetail | 33 |
SharpenEdgeMasking | 0 |
SharpenRadius | +0.5 |
Sharpness | 88 |
ShutterSpeed | 30 |
ShutterSpeedValue | 30 |
SidecarForExtension | CR2 |
Software | Adobe Photoshop CS4 Windows |
SplitToningBalance | 0 |
SplitToningHighlightHue | 0 |
SplitToningHighlightSaturation | 0 |
SplitToningShadowHue | 0 |
SplitToningShadowSaturation | 0 |
Tint | -27 |
ToneCurve | 0, 0, 32, 22, 64, 56, 128, 128, 192, 196, 255, 255 |
ToneCurveName | Medium Contrast |
URL_List | |
Version | 5.4 |
Vibrance | +100 |
VignetteAmount | 0 |
WhiteBalance (2) | Custom |
WhiteBalance | Manual |