Felt | Verdi |
AlreadyApplied | True |
Aperture | 5.6 |
ApertureValue | 5.6 |
Artist | Christer Hansen Eriksen |
BitsPerSample | 8 |
BlueHue | 0 |
BlueSaturation | 0 |
Brightness | +50 |
By-line | Christer Hansen Eriksen |
CameraProfile | Adobe Standard |
Caption-Abstract | This ferry takes you to Fedje from S¾vr¿y, Norway. |
ChromaticAberrationB | 0 |
ChromaticAberrationR | -15 |
CircleOfConfusion | 0.019 mm |
Clarity | +65 |
ColorComponents | 3 |
ColorNoiseReduction | 25 |
ColorTemperature | 7313 |
Contrast | +28 |
ConvertToGrayscale | False |
Copyright | Chreriksen |
CopyrightFlag | True |
CopyrightNotice | Chreriksen |
CreateDate (1) | 2010:01:05 09:51:14.43+01:00 |
CreateDate | 2010:01:05 09:51:14 |
Creator | Christer Hansen Eriksen |
CreatorTool | Adobe Photoshop Lightroom |
CreatorWorkEmail | chreriksen@me.com |
CreatorWorkURL | flickr.com/chreriksen |
CropAngle | 0 |
CropBottom | 0.954434 |
CropHeight | 2718 |
CropLeft | 0.022783 |
CropRight | 0.977217 |
CropTop | 0 |
CropUnit | pixels |
CropWidth | 4077 |
CustomRendered | Normal |
DateTimeDigitized | 2010:01:05 09:51:14.43+01:00 |
DateTimeOriginal (1) | 2010:01:05 09:51:14.43+01:00 |
DateTimeOriginal | 2010:01:05 09:51:14 |
Defringe | 1 |
Description | This ferry takes you to Fedje from Sævrøy, Norway. |
DOF | inf (47.04 m - inf) |
ExifImageHeight | 2718 |
ExifImageWidth | 4077 |
Exposure | +0.58 |
ExposureCompensation | -1/3 |
ExposureMode | Auto |
ExposureProgram | Aperture-priority AE |
ExposureTime | 1/50 |
FillLight | 26 |
Firmware | 1.0.9 |
Flash | Off, Did not fire |
FlashCompensation | 0 |
FlashFired | False |
FlashFunction | False |
FlashMode | Off |
FlashRedEyeMode | False |
FlashReturn | No return detection |
FNumber | 5.6 |
FocalLength | 70.0 mm |
FocalLength35efl | 70.0 mm (35 mm equivalent: 113.1 mm) |
FOV | 18.1 deg |
GradientBasedCorrActive | true |
GradientBasedCorrAmount | 1.000000 |
GradientBasedCorrBrightness | 0.000000 |
GradientBasedCorrClarity | 0.000000 |
GradientBasedCorrContrast | 0.000000 |
GradientBasedCorrExposure | 0.000000 |
GradientBasedCorrHue | 230.000000 |
GradientBasedCorrMaskFullX | 0.534678 |
GradientBasedCorrMaskFullY | -0.027181 |
GradientBasedCorrMaskValue | 1.000000 |
GradientBasedCorrMaskWhat | Mask/Gradient |
GradientBasedCorrMaskZeroX | 0.531573 |
GradientBasedCorrMaskZeroY | 0.593318 |
GradientBasedCorrSaturation (1) | 0.000000 |
GradientBasedCorrSaturation | 1.000000 |
GradientBasedCorrSharpness | 0.000000 |
GradientBasedCorrWhat | Correction |
GreenHue | 0 |
GreenSaturation | 0 |
HasCrop | True |
HasSettings | True |
HierarchicalSubject | Boat, Fedje, Fedjefjord, Ferge, Moon, Norway, Snow, Water, Winter |
HighlightRecovery | 10 |
HueAdjustmentAqua | 0 |
HueAdjustmentBlue | 0 |
HueAdjustmentGreen | 0 |
HueAdjustmentMagenta | 0 |
HueAdjustmentOrange | 0 |
HueAdjustmentPurple | 0 |
HueAdjustmentRed | 0 |
HueAdjustmentYellow | 0 |
HyperfocalDistance | 47.04 m |
ImageDescription | This ferry takes you to Fedje from Saevroy, Norway. |
ImageHeight | 2718 |
ImageNumber | 0 |
ImageSize | 4077x2718 |
ImageWidth | 4077 |
ISO | 100 |
Keywords | Boat, Fedje, Fedjefjord, Ferge, Moon, Norway, Snow, Water, Winter |
Lens | EF70-200mm f/2.8L IS USM |
LensID (1) | 224 |
LensID | Canon EF 70-200mm f/2.8L IS USM |
LensInfo | 70-200mm f/? |
LightValue | 10.6 |
LuminanceAdjustmentAqua | 0 |
LuminanceAdjustmentBlue | -10 |
LuminanceAdjustmentGreen | 0 |
LuminanceAdjustmentMagenta | 0 |
LuminanceAdjustmentOrange | 0 |
LuminanceAdjustmentPurple | 0 |
LuminanceAdjustmentRed | 0 |
LuminanceAdjustmentYellow | 0 |
LuminanceSmoothing | 56 |
Make | Canon |
Marked | True |
MaxApertureValue | 2.8 |
Megapixels | 11.1 |
MeteringMode | Multi-segment |
Model | Canon EOS 450D |
ModifyDate (1) | 2010:01:06 18:45:40+01:00 |
ModifyDate | 2010:01:06 18:45:40 |
ObjectName | Fedjefjord |
OwnerName | Christer Hansen Eriksen |
PaintCorrectionActive | true |
PaintCorrectionAmount | 1.000000 |
PaintCorrectionBrightness | 0.000000 |
PaintCorrectionClarity | -0.563218 |
PaintCorrectionContrast | -0.471264 |
PaintCorrectionExposure | 0.000000 |
PaintCorrectionHue | 230.000000 |
PaintCorrectionMaskCenterWeight | 0.015538 |
PaintCorrectionMaskFlow | 1.000000 |
PaintCorrectionMaskRadius | 0.046972 |
PaintCorrectionMaskValue | 1.000000 |
PaintCorrectionMaskWhat | Mask/Paint |
PaintCorrectionSaturation (1) | 0.000000 |
PaintCorrectionSaturation | 1.000000 |
PaintCorrectionSharpness | 0.310345 |
PaintCorrectionWhat | Correction |
ParametricDarks | 0 |
ParametricHighlights | 0 |
ParametricHighlightSplit | 75 |
ParametricLights | 0 |
ParametricMidtoneSplit | 50 |
ParametricShadows | 0 |
ParametricShadowSplit | 25 |
PostCropVignetteAmount | 0 |
ProfileDescription | Adobe RGB (1998) |
Rating | 4 |
RedHue | 0 |
RedSaturation | 0 |
Rights | Chreriksen |
Saturation | +25 |
SaturationAdjustmentAqua | 0 |
SaturationAdjustmentBlue | +27 |
SaturationAdjustmentGreen | 0 |
SaturationAdjustmentMagenta | +27 |
SaturationAdjustmentOrange | 0 |
SaturationAdjustmentPurple | +21 |
SaturationAdjustmentRed | 0 |
SaturationAdjustmentYellow | 0 |
ScaleFactor35efl | 1.6 |
SceneCaptureType | Standard |
SerialNumber | 1380330704 |
Shadows | 5 |
ShadowTint | 0 |
SharpenDetail | 25 |
SharpenEdgeMasking | 0 |
SharpenRadius | +1.0 |
Sharpness | 25 |
ShutterSpeed | 1/50 |
ShutterSpeedValue | 1/50 |
SplitToningBalance | 0 |
SplitToningHighlightHue | 0 |
SplitToningHighlightSaturation | 0 |
SplitToningShadowHue | 0 |
SplitToningShadowSaturation | 0 |
Subject | Boat, Fedje, Fedjefjord, Ferge, Moon, Norway, Snow, Water, Winter |
SubjectDistance | 4294967295 m |
Tint | 0 |
Title | Fedjefjord |
ToneCurve | 0, 0, 32, 22, 64, 56, 128, 128, 192, 196, 255, 255 |
ToneCurveName | Medium Contrast |
Version | 5.6 |
Vibrance | +56 |
VignetteAmount | 0 |
WhiteBalance (2) | Custom |
WhiteBalance | Auto |