Felt | Verdi |
AlreadyApplied | True |
Aperture | 4.5 |
ApertureValue | 4.5 |
BitsPerSample | 8 |
BlueHue | 0 |
BlueSaturation | 0 |
Brightness | +32 |
CameraProfile | ACR 4.4 |
ChromaticAberrationB | 0 |
ChromaticAberrationR | -24 |
CircleOfConfusion | 0.030 mm |
Clarity | +19 |
ColorComponents | 3 |
ColorNoiseReduction | 82 |
ColorTemperature | 20000 |
Contrast | +57 |
ConvertToGrayscale | False |
CreateDate (1) | 2010:02:10 16:23:24+01:00 |
CreateDate | 2010:02:10 16:23:24 |
CreatorTool | Adobe Photoshop Lightroom |
CropAngle | 1.125 |
CropBottom | 0.737795 |
CropHeight | 1610 |
CropLeft | 0.057534 |
CropRight | 0.880519 |
CropTop | 0.160348 |
CropUnit | pixels |
CropWidth | 3627 |
CustomRendered | Normal |
DateTimeDigitized | 2010:02:10 16:23:24+01:00 |
DateTimeOriginal (1) | 2010:02:10 16:23:24+01:00 |
DateTimeOriginal | 2010:02:10 16:23:24 |
Defringe | 0 |
ExifImageHeight | 1610 |
ExifImageWidth | 3627 |
Exposure | +0.29 |
ExposureCompensation | 0 |
ExposureMode | Manual |
ExposureProgram | Manual |
ExposureTime | 1/15 |
FillLight | 0 |
Firmware | 1.0.1 |
Flash | Off, Did not fire |
FlashCompensation | 0 |
FlashFired | False |
FlashFunction | False |
FlashMode | Off |
FlashRedEyeMode | False |
FlashReturn | No return detection |
FNumber | 4.5 |
FocalLength | 24.0 mm |
FocalLength35efl | 24.0 mm (35 mm equivalent: 24.0 mm) |
FOV | 73.6 deg |
GreenHue | 0 |
GreenSaturation | 0 |
HasCrop | True |
HasSettings | True |
HierarchicalSubject | 2010, kabelvåg, snøstorm, vinter |
HighlightRecovery | 0 |
HueAdjustmentAqua | +7 |
HueAdjustmentBlue | +2 |
HueAdjustmentGreen | +5 |
HueAdjustmentMagenta | 0 |
HueAdjustmentOrange | -5 |
HueAdjustmentPurple | -67 |
HueAdjustmentRed | -17 |
HueAdjustmentYellow | +29 |
HyperfocalDistance | 4.27 m |
ImageHeight | 1610 |
ImageNumber | 28 |
ImageSize | 3627x1610 |
ImageWidth | 3627 |
ISO | 1600 |
Keywords | 2010, kabelvåg, snøstorm, vinter |
Lens | EF24-105mm f/4L IS USM |
LensInfo | 24-105mm f/? |
LightValue | 4.2 |
LuminanceAdjustmentAqua | +43 |
LuminanceAdjustmentBlue | +14 |
LuminanceAdjustmentGreen | -5 |
LuminanceAdjustmentMagenta | +52 |
LuminanceAdjustmentOrange | +62 |
LuminanceAdjustmentPurple | +38 |
LuminanceAdjustmentRed | +48 |
LuminanceAdjustmentYellow | +31 |
LuminanceSmoothing | 87 |
Make | Canon |
MaxApertureValue | 4.0 |
Megapixels | 5.8 |
MeteringMode | Multi-segment |
Model | Canon EOS 5D |
ModifyDate (1) | 2010:02:11 23:56:07+01:00 |
ModifyDate | 2010:02:11 23:56:07 |
ParametricDarks | +24 |
ParametricHighlights | +60 |
ParametricHighlightSplit | 75 |
ParametricLights | +10 |
ParametricMidtoneSplit | 50 |
ParametricShadows | -43 |
ParametricShadowSplit | 25 |
PostCropVignetteAmount | 0 |
ProfileDescription | sRGB IEC61966-2.1 |
RedHue | 0 |
RedSaturation | 0 |
Saturation | +19 |
SaturationAdjustmentAqua | +10 |
SaturationAdjustmentBlue | +24 |
SaturationAdjustmentGreen | +24 |
SaturationAdjustmentMagenta | +10 |
SaturationAdjustmentOrange | +5 |
SaturationAdjustmentPurple | +7 |
SaturationAdjustmentRed | +38 |
SaturationAdjustmentYellow | +21 |
ScaleFactor35efl | 1.0 |
SceneCaptureType | Standard |
SerialNumber | 630309455 |
Shadows | 20 |
ShadowTint | 0 |
SharpenDetail | 25 |
SharpenEdgeMasking | 0 |
SharpenRadius | +0.9 |
Sharpness | 86 |
ShutterSpeed | 1/15 |
ShutterSpeedValue | 1/15 |
SplitToningBalance | 0 |
SplitToningHighlightHue | 0 |
SplitToningHighlightSaturation | 0 |
SplitToningShadowHue | 0 |
SplitToningShadowSaturation | 0 |
Subject | 2010, kabelvåg, snøstorm, vinter |
Tint | 0 |
ToneCurve | 0, 0, 32, 22, 64, 56, 128, 128, 192, 196, 255, 255 |
ToneCurveName | Medium Contrast |
Version | 4.5 |
Vibrance | +38 |
VignetteAmount | +36 |
VignetteMidpoint | 50 |
WhiteBalance (2) | Custom |
WhiteBalance | Auto |