Felt | Verdi |
AlreadyApplied | True |
Aperture | 6.7 |
ApertureValue | 6.7 |
BitsPerSample | 8 |
BlueHue | 0 |
BlueSaturation | 0 |
Brightness | -5 |
CameraProfile | ACR 3.3 |
CFAPattern | [Red,Green][Green,Blue] |
ChromaticAberrationB | 0 |
ChromaticAberrationR | 0 |
CircleOfConfusion | 0.020 mm |
Clarity | +51 |
ColorComponents | 3 |
ColorNoiseReduction | 20 |
ColorTemperature | 11721 |
Contrast (2) | +62 |
Contrast | Normal |
ConvertToGrayscale | False |
CreateDate (1) | 2010:10:02 08:33:31.34+02:00 |
CreateDate | 2010:10:02 08:33:31 |
CreatorTool | Adobe Photoshop Lightroom |
CropAngle | 0 |
CropBottom | 1 |
CropHeight | 2577 |
CropLeft | 0.257611 |
CropRight | 1 |
CropTop | 0.095238 |
CropUnit | pixels |
CropWidth | 3183 |
CustomRendered | Normal |
DateTimeDigitized | 2010:10:02 08:33:31.34+02:00 |
DateTimeOriginal (1) | 2010:10:02 08:33:31.34+02:00 |
DateTimeOriginal | 2010:10:02 08:33:31 |
Defringe | 0 |
DigitalZoomRatio | 1 |
DOF | 2.48 m (0.60 - 3.08 m) |
ExifImageHeight | 2577 |
ExifImageWidth | 3183 |
Exposure | -0.76 |
ExposureCompensation | 0 |
ExposureMode | Manual |
ExposureProgram | Manual |
ExposureTime | 1/250 |
FillLight | 81 |
Flash | On, Return not detected |
FlashFired | True |
FlashFunction | False |
FlashMode | On |
FlashRedEyeMode | False |
FlashReturn | Return not detected |
FNumber | 6.7 |
FocalLength | 14.0 mm |
FocalLength35efl | 14.0 mm (35 mm equivalent: 21.0 mm) |
FocalLengthIn35mmFormat | 21 mm |
FOV | 81.2 deg |
GainControl | None |
GreenHue | 0 |
GreenSaturation | 0 |
HasCrop | True |
HasSettings | True |
HighlightRecovery | 100 |
HueAdjustmentAqua | -48 |
HueAdjustmentBlue | 0 |
HueAdjustmentGreen | +34 |
HueAdjustmentMagenta | +29 |
HueAdjustmentOrange | +36 |
HueAdjustmentPurple | 0 |
HueAdjustmentRed | +27 |
HueAdjustmentYellow | -46 |
HyperfocalDistance | 1.46 m |
ImageHeight | 2577 |
ImageNumber | 19562 |
ImageSize | 3183x2577 |
ImageWidth | 3183 |
ISO | 250 |
Lens | 14.0-24.0 mm f/2.8 |
LensID (1) | 146 |
LensID | AF-S Zoom-Nikkor 14-24mm f/2.8G ED |
LensInfo | 14-24mm f/2.8 |
LightSource | Unknown |
LightValue | 12.1 |
LuminanceAdjustmentAqua | 0 |
LuminanceAdjustmentBlue | 0 |
LuminanceAdjustmentGreen | +72 |
LuminanceAdjustmentMagenta | 0 |
LuminanceAdjustmentOrange | +60 |
LuminanceAdjustmentPurple | 0 |
LuminanceAdjustmentRed | 0 |
LuminanceAdjustmentYellow | +62 |
LuminanceSmoothing | 20 |
Make | NIKON CORPORATION |
MaxApertureValue | 2.8 |
Megapixels | 8.2 |
MeteringMode | Multi-segment |
Model | NIKON D300 |
ModifyDate (1) | 2010:10:02 16:27:23+02:00 |
ModifyDate | 2010:10:02 16:27:23 |
ParametricDarks | 0 |
ParametricHighlights | -17 |
ParametricHighlightSplit | 75 |
ParametricLights | +40 |
ParametricMidtoneSplit | 50 |
ParametricShadows | +21 |
ParametricShadowSplit | 25 |
PostCropVignetteAmount | 0 |
ProfileDescription | sRGB IEC61966-2.1 |
RedHue | 0 |
RedSaturation | 0 |
Saturation (2) | -62 |
Saturation | Normal |
SaturationAdjustmentAqua | -65 |
SaturationAdjustmentBlue | 0 |
SaturationAdjustmentGreen | -100 |
SaturationAdjustmentMagenta | 0 |
SaturationAdjustmentOrange | +18 |
SaturationAdjustmentPurple | +6 |
SaturationAdjustmentRed | 0 |
SaturationAdjustmentYellow | 0 |
ScaleFactor35efl | 1.5 |
SceneCaptureType | Standard |
SceneType | Directly photographed |
SensingMethod | One-chip color area |
SerialNumber | 4113414 |
Shadows | 66 |
ShadowTint | 0 |
SharpenDetail | 15 |
SharpenEdgeMasking | 0 |
SharpenRadius | +1.0 |
Sharpness (2) | 24 |
Sharpness | Normal |
ShutterSpeed | 1/250 |
ShutterSpeedValue | 1/250 |
Software | Ver.1.00 |
SplitToningBalance | 0 |
SplitToningHighlightHue | 0 |
SplitToningHighlightSaturation | 0 |
SplitToningShadowHue | 0 |
SplitToningShadowSaturation | 0 |
SubjectDistance | 1 m |
SubjectDistanceRange | Unknown |
Tint | -79 |
ToneCurve | 0, 0, 32, 16, 64, 50, 128, 128, 192, 202, 255, 255 |
ToneCurveName | Strong Contrast |
Version | 5.6 |
Vibrance | -1 |
VignetteAmount | -60 |
VignetteMidpoint | 27 |
WhiteBalance (2) | Custom |
WhiteBalance | Auto |