Felt | Verdi |
AlreadyApplied | True |
BitsPerSample | 8 |
BlueHue | 0 |
BlueSaturation | 0 |
Brightness | 0 |
CameraProfile | Embedded |
ChromaticAberrationB | 0 |
ChromaticAberrationR | 0 |
Clarity | -14 |
ColorComponents | 1 |
ColorMode | RGB |
ColorNoiseReduction | 0 |
ColorSpace | sRGB |
Contrast | 0 |
ConvertToGrayscale | True |
CopyrightFlag | False |
CreateDate | 2010:10:19 08:32:29+02:00 |
CreatorTool | Adobe Photoshop CS3 Windows |
CropAngle | 0 |
CropBottom | 0.921147 |
CropHeight | 2500 |
CropLeft | 0.135392 |
CropRight | 0.83848 |
CropTop | 0.050179 |
CropUnit | pixels |
CropWidth | 3046 |
Defringe | 0 |
ExifImageHeight | 2500 |
ExifImageWidth | 3046 |
Exposure | +0.67 |
FillLight | 0 |
Format | image/jpeg |
GrayMixerAqua | -19 |
GrayMixerBlue | +8 |
GrayMixerGreen | -26 |
GrayMixerMagenta | +4 |
GrayMixerOrange | -18 |
GrayMixerPurple | +15 |
GrayMixerRed | -9 |
GrayMixerYellow | -22 |
GreenHue | 0 |
GreenSaturation | 0 |
HasCrop | True |
HasSettings | True |
HighlightRecovery | 46 |
ICCProfileName | sRGB IEC61966-2.1 |
ImageHeight | 2500 |
ImageSize | 3046x2500 |
ImageWidth | 3046 |
IncrementalTemperature | 0 |
IncrementalTint | 0 |
LuminanceSmoothing | 0 |
Make | Nikon |
Megapixels | 7.6 |
Model | Nikon COOLSCAN IV ED |
ModifyDate (1) | 2010:10:19 08:36:50+02:00 |
ModifyDate | 2010:10:19 08:36:50 |
Orientation | Horizontal (normal) |
ParametricDarks | -19 |
ParametricHighlights | -45 |
ParametricHighlightSplit | 75 |
ParametricLights | +7 |
ParametricMidtoneSplit | 50 |
ParametricShadows | -26 |
ParametricShadowSplit | 25 |
PostCropVignetteAmount | 0 |
ProfileDescription | sRGB IEC61966-2.1 |
RedHue | 0 |
RedSaturation | 0 |
Shadows | 13 |
ShadowTint | 0 |
SharpenDetail | 25 |
SharpenEdgeMasking | 0 |
SharpenRadius | +1.0 |
Sharpness | 0 |
Software | Adobe Photoshop CS3 Windows |
SplitToningBalance | 0 |
SplitToningHighlightHue | 0 |
SplitToningHighlightSaturation | 0 |
SplitToningShadowHue | 0 |
SplitToningShadowSaturation | 0 |
ToneCurve | 0, 0, 255, 255 |
ToneCurveName | Linear |
URL_List | |
Version | 5.7 |
VignetteAmount | 0 |
WhiteBalance | As Shot |