Felt | Verdi |
AlreadyApplied | True |
Aperture | 3.5 |
ApertureValue | 3.5 |
BitsPerSample | 8 |
BlueHue | 0 |
BlueSaturation | 0 |
Brightness | +50 |
CameraProfile | Adobe Standard |
ChromaticAberrationB | +2 |
ChromaticAberrationR | +8 |
CircleOfConfusion | 0.030 mm |
Clarity | -25 |
ColorComponents | 3 |
ColorMode | RGB |
ColorNoiseReduction | 25 |
ColorSpace | sRGB |
ColorTemperature | 5646 |
Contrast | +25 |
ConvertToGrayscale | False |
Copyright | Geir Helge Solevåg |
CopyrightFlag | True |
CopyrightNotice | Geir Helge SolevŒg |
CreateDate (1) | 2011:02:04 21:45:59+01:00 |
CreateDate | 2010:05:14 17:12:11 |
CreatorTool | Adobe Photoshop CS3 Macintosh |
CropAngle | 0.126075 |
CropBottom | 1 |
CropHeight | 2906 |
CropLeft | 0.030505 |
CropRight | 0.694243 |
CropTop | 0 |
CropUnit | pixels |
CropWidth | 2906 |
CustomRendered | Normal |
DateTimeDigitized | 2010:05:14 17:12:11+02:00 |
DateTimeOriginal (1) | 2010:05:14 17:12:11+02:00 |
DateTimeOriginal | 2010:05:14 17:12:11 |
Defringe | 0 |
DerivedFrom | |
ExifImageHeight | 2906 |
ExifImageWidth | 2906 |
Exposure | +0.50 |
ExposureCompensation | +1 |
ExposureMode | Auto |
ExposureProgram | Aperture-priority AE |
ExposureTime | 1/2000 |
FillLight | 19 |
Firmware | 1.1.1 |
Flash | Off, Did not fire |
FlashCompensation | 0 |
FlashFired | False |
FlashFunction | False |
FlashMode | Off |
FlashRedEyeMode | False |
FlashReturn | No return detection |
FNumber | 3.5 |
FocalLength | 180.0 mm |
FocalLength35efl | 180.0 mm (35 mm equivalent: 180.4 mm) |
Format | image/jpeg |
FOV | 11.4 deg |
GreenHue | 0 |
GreenSaturation | 0 |
HasCrop | True |
HasSettings | True |
HierarchicalSubject | Mauseidvannet, Morten, Personer|Ingvild|Ingvild og matilde|ingvild, Personer|Liv og Morten|Liv, Personer|Matilde, tur |
HighlightRecovery | 0 |
HueAdjustmentAqua | 0 |
HueAdjustmentBlue | 0 |
HueAdjustmentGreen | 0 |
HueAdjustmentMagenta | 0 |
HueAdjustmentOrange | 0 |
HueAdjustmentPurple | 0 |
HueAdjustmentRed | 0 |
HueAdjustmentYellow | 0 |
HyperfocalDistance | 308.74 m |
ICCProfileName | sRGB IEC61966-2.1 |
ImageHeight | 2906 |
ImageNumber | 5 |
ImageSize | 2906x2906 |
ImageWidth | 2906 |
ISO | 400 |
Keywords | Ingvild, Ingvild og matilde, Liv, Liv og Morten, Matilde, Mauseidvannet, Morten, Personer, ingvild, tur |
Lens | EF180mm f/3.5L Macro USM |
LensID (1) | 173 |
LensID | Canon EF 180mm Macro f/3.5L USM or Sigma 180mm EX HSM Macro f/3.5 |
LensInfo | 180mm f/? |
LightValue | 12.6 |
LuminanceAdjustmentAqua | 0 |
LuminanceAdjustmentBlue | 0 |
LuminanceAdjustmentGreen | 0 |
LuminanceAdjustmentMagenta | 0 |
LuminanceAdjustmentOrange | 0 |
LuminanceAdjustmentPurple | 0 |
LuminanceAdjustmentRed | 0 |
LuminanceAdjustmentYellow | 0 |
LuminanceSmoothing | 0 |
Make | Canon |
Marked | True |
MaxApertureValue | 3.5 |
Megapixels | 8.4 |
MeteringMode | Multi-segment |
Model | Canon EOS 5D |
ModifyDate (1) | 2011:02:04 21:45:59+01:00 |
ModifyDate | 2011:02:04 21:45:59 |
Orientation | Horizontal (normal) |
ParametricDarks | +6 |
ParametricHighlights | 0 |
ParametricHighlightSplit | 75 |
ParametricLights | +4 |
ParametricMidtoneSplit | 50 |
ParametricShadows | +17 |
ParametricShadowSplit | 25 |
PostCropVignetteAmount | 0 |
ProfileDescription | sRGB IEC61966-2.1 |
RedHue | 0 |
RedSaturation | 0 |
Rights | Geir Helge Solevåg |
Saturation | -13 |
SaturationAdjustmentAqua | 0 |
SaturationAdjustmentBlue | 0 |
SaturationAdjustmentGreen | 0 |
SaturationAdjustmentMagenta | 0 |
SaturationAdjustmentOrange | 0 |
SaturationAdjustmentPurple | 0 |
SaturationAdjustmentRed | 0 |
SaturationAdjustmentYellow | 0 |
ScaleFactor35efl | 1.0 |
SceneCaptureType | Standard |
SerialNumber | 2631211041 |
Shadows | 5 |
ShadowTint | 0 |
SharpenDetail | 8 |
SharpenEdgeMasking | 0 |
SharpenRadius | +0.7 |
Sharpness | 130 |
ShutterSpeed | 1/2000 |
ShutterSpeedValue | 1/2000 |
Software | Adobe Photoshop CS3 Macintosh |
SplitToningBalance | 0 |
SplitToningHighlightHue | 0 |
SplitToningHighlightSaturation | 0 |
SplitToningShadowHue | 0 |
SplitToningShadowSaturation | 0 |
Subject | Ingvild, Ingvild og matilde, Liv, Liv og Morten, Matilde, Mauseidvannet, Morten, Personer, ingvild, tur |
Tint | -75 |
ToneCurve | 0, 0, 32, 22, 64, 56, 128, 128, 192, 196, 255, 255 |
ToneCurveName | Medium Contrast |
URL_List | |
Version | 5.6 |
Vibrance | +13 |
VignetteAmount | 0 |
WhiteBalance (2) | Custom |
WhiteBalance | Auto |