Felt | Verdi |
AEBBracketValue | 0 |
AlreadyApplied | True |
Aperture | 11.0 |
ApertureValue | 11.0 |
Artist | |
AutoExposureBracketing | Off |
AutoISO | 100 |
BaseISO | 0 |
BitsPerSample | 8 |
BlackClip | 0.559400 |
BlueHue | 0 |
BlueSaturation | 0 |
Brightness | +9 |
BulbDuration | 0 |
CameraProfile | Embedded |
CameraType | n/a |
CanonExposureMode | Unknown (-1) |
CanonFirmwareVersion | |
CanonFlashMode | n/a |
CanonImageSize | n/a |
CanonImageType | |
ChromaticAberrationB | 0 |
ChromaticAberrationR | 0 |
Clarity | 0 |
ColorComponents | 3 |
ColorNoiseReduction | 0 |
ColorSaturation | 56.0 |
ColorSpace | Uncalibrated |
ColorTemperature | 1.6 |
ContinuousDrive | Unknown (-1) |
Contrast | +2 |
ControlMode | n/a |
ConvertToGrayscale | False |
CreateDate | 2012:01:22 15:28:28 |
CreatorTool | Adobe Photoshop Lightroom 3.6 (Windows) |
DateCreated | 2012:01:22 15:28:28 |
DateTimeOriginal | 2012:01:22 15:28:28 |
Defringe | 0 |
DigitalZoom | None |
DriveMode | Continuous Shooting |
EasyMode | Unknown (-1) |
ExifImageHeight | 3375 |
ExifImageWidth | 5064 |
Exposure | 0.00 |
ExposureCompensation | 0 |
ExposureTime | 1/80 |
FileNumber | 0 |
FillLight | 11 |
FlashBits | (none) |
FlashCompensation | 0 |
FlashExposureComp | 0 |
FlashGuideNumber | 0 |
FNumber | 11.0 |
FocalUnits | 32/mm |
FocusMode | Single |
FocusRange | Not Known |
Format | image/jpeg |
Gamma (1) | 1.12 |
Gamma | 2.2 |
GrainAmount | 0 |
GreenHue | 0 |
GreenSaturation | 0 |
HasCrop | False |
HasSettings | True |
HighlightRecovery | 0 |
HighlightsSmoothing | 15.0 |
HueAdjustmentAqua | 0 |
HueAdjustmentBlue | 0 |
HueAdjustmentGreen | 0 |
HueAdjustmentMagenta | 0 |
HueAdjustmentOrange | 0 |
HueAdjustmentPurple | 0 |
HueAdjustmentRed | 0 |
HueAdjustmentYellow | +57 |
ImageHeight | 3375 |
ImageSize | 5064x3375 |
ImageWidth | 5064 |
IncrementalTemperature | -10 |
IncrementalTint | -17 |
ISO | 0 |
IsPano360 | No |
Lens | 0.0 mm |
Lens35efl | 0.0 mm |
LensID | n/a |
LensManualDistortionAmount | 0 |
LensProfileEnable | 0 |
LensProfileSetup | LensDefaults |
LensType | n/a |
LuminanceAdjustmentAqua | 0 |
LuminanceAdjustmentBlue | 0 |
LuminanceAdjustmentGreen | 0 |
LuminanceAdjustmentMagenta | 0 |
LuminanceAdjustmentOrange | 0 |
LuminanceAdjustmentPurple | 0 |
LuminanceAdjustmentRed | 0 |
LuminanceAdjustmentYellow | +25 |
LuminanceSmoothing | 0 |
Luminosity | 3.8 |
MacroMode | Unknown (0) |
Make | Canon |
ManualFlashOutput | n/a |
MaxFocalLength | 0 mm |
MeasuredEV | 5.00 |
Megapixels | 17.1 |
MeteringMode | Unknown (-1) |
Method | Details Enhancer |
Microcontrast | 3.0 |
Microsmoothing | 2.0 |
MinFocalLength | 0 mm |
Model | Canon EOS 7D |
ModifyDate (1) | 2012:01:22 20:25:11+01:00 |
ModifyDate | 2012:01:22 15:28:28 |
NDFilter | n/a |
OpticalZoomCode | n/a |
Orientation | Horizontal (normal) |
OwnerName | |
ParametricDarks | 0 |
ParametricHighlights | 0 |
ParametricHighlightSplit | 75 |
ParametricLights | 0 |
ParametricMidtoneSplit | 50 |
ParametricShadows | 0 |
ParametricShadowSplit | 25 |
PerspectiveHorizontal | 0 |
PerspectiveRotate | 0.0 |
PerspectiveScale | 100 |
PerspectiveVertical | 0 |
PostCropVignetteAmount | +10 |
PostCropVignetteFeather | 50 |
PostCropVignetteMidpoint | 50 |
PostCropVignetteRoundness | 0 |
PostCropVignetteStyle | 1 |
PrimaryChromaticities | 0.64 0.33 0.21 0.71 0.15 0.06 |
ProcessVersion | 5.7 |
ProfileDescription | Adobe RGB (1998) |
Quality | Fine |
RedHue | 0 |
RedSaturation | 0 |
RelatedImageHeight | 3375 |
RelatedImageWidth | 5064 |
Saturation | +8 |
SaturationAdjustmentAqua | 0 |
SaturationAdjustmentBlue | 0 |
SaturationAdjustmentGreen | 0 |
SaturationAdjustmentMagenta | 0 |
SaturationAdjustmentOrange | 0 |
SaturationAdjustmentPurple | 0 |
SaturationAdjustmentRed | 0 |
SaturationAdjustmentYellow | +11 |
SaturationHighlights | 0.0 |
SaturationShadows | 0.0 |
SelfTimer | Off |
SequenceNumber | 0 |
Shadows | 2 |
ShadowsClipping | 0.0 |
ShadowsSmoothing | 0.0 |
ShadowTint | 0 |
SharpenDetail | 25 |
SharpenEdgeMasking | 0 |
SharpenRadius | +1.0 |
Sharpness | 67 |
ShootingMode | Unknown (-1) |
ShutterSpeed | 1/80 |
ShutterSpeedValue | 1/80 |
SlowShutter | None |
Smoothing | 2.5 |
SmoothingMode | Slider |
Software | Digital Photo Professional |
SplitToningBalance | +6 |
SplitToningHighlightHue | 0 |
SplitToningHighlightSaturation | 0 |
SplitToningShadowHue | 0 |
SplitToningShadowSaturation | 0 |
SRAWQuality | n/a |
Strength | 85.0 |
TargetAperture | 11 |
TargetExposureTime | 1/79 |
ToneCurve | 0, 0, 255, 255 |
ToneCurveName | Linear |
UserComment | |
Version (1) | 4.1 |
Version | 6.6 |
Vibrance | +8 |
VignetteAmount | 0 |
WhiteBalance (1) | Custom |
WhiteBalance | Unknown (-1) |
WhiteClip | 0.631700 |
WhitePoint | 0.313 0.329 |
ZoomSourceWidth | 0 |
ZoomTargetWidth | 0 |