Felt | Verdi |
AlreadyApplied | True |
Aperture | 9.0 |
ApertureValue | 9.0 |
ApproximateFocusDistance | 4294967295 |
BitsPerSample | 8 |
BlueHue | 0 |
BlueSaturation | 0 |
Brightness | +20 |
CameraProfile | Embedded |
CFAPattern | [Red,Green][Green,Blue] |
ChromaticAberrationB | 0 |
ChromaticAberrationR | 0 |
CircleOfConfusion | 0.020 mm |
Clarity | +30 |
ColorComponents | 3 |
ColorNoiseReduction | 0 |
Contrast (1) | +30 |
Contrast | Normal |
ConvertToGrayscale | False |
CreateDate (1) | 2012:02:08 09:11:59.90 |
CreateDate | 2012:02:08 09:11:59 |
CreatorTool | Adobe Photoshop Lightroom 3.6 (Windows) |
CropAngle | -1.13631 |
CropBottom | 0.978283 |
CropConstrainToWarp | 0 |
CropHeight | 3194 |
CropLeft | 0.261979 |
CropRight | 1 |
CropTop | 0.021717 |
CropUnit | pixels |
CropWidth | 3575 |
CustomRendered | Normal |
DateCreated (1) | 2012:02:08 |
DateCreated | 2012:02:08 09:11:59.90 |
DateTimeOriginal | 2012:02:08 09:11:59 |
Defringe | 0 |
DigitalZoomRatio | 1 |
DOF | inf (60.96 m - inf) |
Exposure | +0.20 |
ExposureCompensation | 0 |
ExposureMode | Auto |
ExposureProgram | Not Defined |
ExposureTime | 1/1250 |
FillLight | 0 |
Flash | Off, Did not fire |
FNumber | 9.0 |
FocalLength | 105.0 mm |
FocalLength35efl | 105.0 mm (35 mm equivalent: 157.0 mm) |
FocalLengthIn35mmFormat | 157 mm |
Format | image/jpeg |
FOV | 13.1 deg |
GainControl | None |
GrainAmount | 0 |
GreenHue | 0 |
GreenSaturation | 0 |
HasCrop | True |
HasSettings | True |
HighlightRecovery | 50 |
HueAdjustmentAqua | 0 |
HueAdjustmentBlue | 0 |
HueAdjustmentGreen | 0 |
HueAdjustmentMagenta | 0 |
HueAdjustmentOrange | 0 |
HueAdjustmentPurple | 0 |
HueAdjustmentRed | 0 |
HueAdjustmentYellow | 0 |
HyperfocalDistance | 60.96 m |
ImageHeight | 3575 |
ImageNumber | 741 |
ImageSize | 3194x3575 |
ImageWidth | 3194 |
IncrementalTemperature | -10 |
IncrementalTint | 0 |
ISO | 100 |
Lens | 18.0-105.0 mm f/3.5-5.6 |
LensID (1) | 158 |
LensID | AF-S DX VR Zoom-Nikkor 18-105mm f/3.5-5.6G ED |
LensInfo | 18-105mm f/3.5-5.6 |
LensManualDistortionAmount | 0 |
LensModel | 18.0-105.0 mm f/3.5-5.6 |
LensProfileEnable | 0 |
LensProfileSetup | LensDefaults |
LightSource | Unknown |
LightValue | 16.6 |
LuminanceAdjustmentAqua | 0 |
LuminanceAdjustmentBlue | 0 |
LuminanceAdjustmentGreen | 0 |
LuminanceAdjustmentMagenta | 0 |
LuminanceAdjustmentOrange | 0 |
LuminanceAdjustmentPurple | 0 |
LuminanceAdjustmentRed | 0 |
LuminanceAdjustmentYellow | 0 |
LuminanceNoiseReductionContrast | 0 |
LuminanceNoiseReductionDetail | 50 |
LuminanceSmoothing | 30 |
Make | NIKON CORPORATION |
MaxApertureValue | 5.7 |
Megapixels | 11.4 |
MeteringMode | Multi-segment |
Model | NIKON D5100 |
ModifyDate (1) | 2012:02:16 16:12:48+01:00 |
ModifyDate | 2012:02:16 16:12:48 |
ParametricDarks | 0 |
ParametricHighlights | +20 |
ParametricHighlightSplit | 75 |
ParametricLights | 0 |
ParametricMidtoneSplit | 50 |
ParametricShadows | -20 |
ParametricShadowSplit | 25 |
PerspectiveHorizontal | 0 |
PerspectiveRotate | 0.0 |
PerspectiveScale | 100 |
PerspectiveVertical | 0 |
PostCropVignetteAmount | 0 |
ProcessVersion | 5.7 |
ProfileDescription | sRGB IEC61966-2.1 |
RedHue | 0 |
RedSaturation | 0 |
Saturation (1) | 0 |
Saturation | Normal |
SaturationAdjustmentAqua | 0 |
SaturationAdjustmentBlue | 0 |
SaturationAdjustmentGreen | 0 |
SaturationAdjustmentMagenta | 0 |
SaturationAdjustmentOrange | 0 |
SaturationAdjustmentPurple | 0 |
SaturationAdjustmentRed | 0 |
SaturationAdjustmentYellow | 0 |
ScaleFactor35efl | 1.5 |
SceneCaptureType | Standard |
SceneType | Directly photographed |
SensingMethod | One-chip color area |
SensitivityType | Recommended Exposure Index |
SerialNumber | 6260596 |
Shadows | 10 |
ShadowTint | 0 |
SharpenDetail | 50 |
SharpenEdgeMasking | 50 |
SharpenRadius | +2.0 |
Sharpness (1) | 80 |
Sharpness | Normal |
ShutterSpeed | 1/1250 |
ShutterSpeedValue | 1/1250 |
Software | Adobe Photoshop Lightroom 3.6 (Windows) |
SplitToningBalance | 0 |
SplitToningHighlightHue | 0 |
SplitToningHighlightSaturation | 0 |
SplitToningShadowHue | 0 |
SplitToningShadowSaturation | 0 |
SubjectDistance | 4294967295 m |
SubjectDistanceRange | Unknown |
ToneCurve | 0, 0, 255, 255 |
ToneCurveName | Linear |
Version | 6.6 |
Vibrance | 0 |
VignetteAmount | +100 |
VignetteMidpoint | 50 |
WhiteBalance (1) | Custom |
WhiteBalance | Auto |