Felt | Verdi |
AlreadyApplied | True |
Aperture | 4.0 |
ApertureValue | 4.0 |
ApproximateFocusDistance | 5.98 |
Artist | Hanna Monsen |
BitsPerSample | 8 |
BlueHue | 0 |
BlueSaturation | 0 |
Brightness | +50 |
By-line | Hanna Monsen |
CameraProfile | Adobe Standard |
ChromaticAberrationB | 0 |
ChromaticAberrationR | 0 |
CircleOfConfusion | 0.031 mm |
Clarity | +61 |
ColorComponents | 3 |
ColorNoiseReduction | 25 |
ColorNoiseReductionDetail | 50 |
ColorTemperature | 5300 |
Contrast | +52 |
ConvertToGrayscale | False |
Copyright | Hanna Monsen |
CopyrightFlag | True |
CopyrightNotice | Hanna Monsen |
CreateDate (1) | 2012:05:06 14:35:36.72 |
CreateDate | 2012:05:06 14:35:36 |
Creator | Hanna Monsen |
CreatorAddress | Sandbakkveien 16 |
CreatorCity | Rognan |
CreatorCountry | Norway |
CreatorPostalCode | 8250 |
CreatorTool | Adobe Photoshop Lightroom 3.6 (Macintosh) |
CreatorWorkTelephone | 004748154795 |
CropAngle | -0.500025 |
CropBottom | 0.684926 |
CropConstrainToWarp | 0 |
CropHeight | 679 |
CropLeft | 0.466471 |
CropRight | 0.648848 |
CropTop | 0.505979 |
CropUnit | pixels |
CropWidth | 1018 |
CustomRendered | Normal |
DateCreated (1) | 2012:05:06 |
DateCreated | 2012:05:06 14:35:36.72 |
DateTimeOriginal | 2012:05:06 14:35:36 |
Defringe | 0 |
DOF | 0.21 m (5.88 - 6.09 m) |
Exposure | +0.55 |
ExposureCompensation | 0 |
ExposureMode | Auto |
ExposureProgram | Shutter speed priority AE |
ExposureTime | 1/3200 |
FillLight | 42 |
Firmware | 2.0.8 |
Flash | Off, Did not fire |
FlashCompensation | 0 |
FNumber | 4.0 |
FocalLength | 200.0 mm |
FocalLength35efl | 200.0 mm (35 mm equivalent: 195.2 mm) |
Format | image/jpeg |
FOV | 10.5 deg |
GrainAmount | 0 |
GreenHue | 0 |
GreenSaturation | 0 |
HasCrop | True |
HasSettings | True |
HighlightRecovery | 0 |
HueAdjustmentAqua | 0 |
HueAdjustmentBlue | 0 |
HueAdjustmentGreen | 0 |
HueAdjustmentMagenta | 0 |
HueAdjustmentOrange | 0 |
HueAdjustmentPurple | 0 |
HueAdjustmentRed | 0 |
HueAdjustmentYellow | 0 |
HyperfocalDistance | 324.81 m |
ImageHeight | 679 |
ImageNumber | 0 |
ImageSize | 1018x679 |
ImageWidth | 1018 |
ISO | 200 |
Lens | EF70-200mm f/2.8L IS II USM |
LensID (1) | 251 |
LensID | Canon EF 70-200mm f/2.8L IS II USM |
LensInfo | 70-200mm f/? |
LensManualDistortionAmount | 0 |
LensModel | EF70-200mm f/2.8L IS II USM |
LensProfileEnable | 0 |
LensProfileSetup | LensDefaults |
LightValue | 14.6 |
LuminanceAdjustmentAqua | 0 |
LuminanceAdjustmentBlue | 0 |
LuminanceAdjustmentGreen | 0 |
LuminanceAdjustmentMagenta | 0 |
LuminanceAdjustmentOrange | 0 |
LuminanceAdjustmentPurple | 0 |
LuminanceAdjustmentRed | 0 |
LuminanceAdjustmentYellow | 0 |
LuminanceSmoothing | 0 |
Make | Canon |
Marked | True |
MaxApertureValue | 2.8 |
Megapixels | 0.691 |
MeteringMode | Multi-segment |
Model | Canon EOS 5D Mark II |
ModifyDate (1) | 2012:05:09 09:17:44+02:00 |
ModifyDate | 2012:05:09 09:17:44 |
ParametricDarks | 0 |
ParametricHighlights | 0 |
ParametricHighlightSplit | 75 |
ParametricLights | 0 |
ParametricMidtoneSplit | 50 |
ParametricShadows | 0 |
ParametricShadowSplit | 25 |
PerspectiveHorizontal | 0 |
PerspectiveRotate | 0.0 |
PerspectiveScale | 100 |
PerspectiveVertical | 0 |
PostCropVignetteAmount | 0 |
ProcessVersion | 5.7 |
ProfileDescription | sRGB IEC61966-2.1 |
RedHue | 0 |
RedSaturation | 0 |
Rights | Hanna Monsen |
Saturation | 0 |
SaturationAdjustmentAqua | 0 |
SaturationAdjustmentBlue | 0 |
SaturationAdjustmentGreen | 0 |
SaturationAdjustmentMagenta | 0 |
SaturationAdjustmentOrange | 0 |
SaturationAdjustmentPurple | 0 |
SaturationAdjustmentRed | 0 |
SaturationAdjustmentYellow | 0 |
ScaleFactor35efl | 1.0 |
SceneCaptureType | Standard |
SerialNumber | 2931530751 |
Shadows | 5 |
ShadowTint | 0 |
SharpenDetail | 35 |
SharpenEdgeMasking | 0 |
SharpenRadius | +0.8 |
Sharpness | 40 |
ShutterSpeed | 1/3200 |
ShutterSpeedValue | 1/3200 |
Software | Adobe Photoshop Lightroom 3.6 (Macintosh) |
SplitToningBalance | 0 |
SplitToningHighlightHue | 0 |
SplitToningHighlightSaturation | 0 |
SplitToningShadowHue | 0 |
SplitToningShadowSaturation | 0 |
SubjectDistance | 5.98 m |
Tint | -2 |
ToneCurve | 0, 0, 32, 22, 64, 56, 128, 128, 192, 196, 255, 255 |
ToneCurveName | Medium Contrast |
Version | 6.6 |
Vibrance | 0 |
VignetteAmount | 0 |
WhiteBalance (1) | As Shot |
WhiteBalance | Auto |