Felt | Verdi |
AlreadyApplied | True |
Aperture | 16.0 |
ApertureValue | 16.0 |
ApproximateFocusDistance | 4294967295 |
Artist | Gunnar Holten |
AuthorsPosition | Fotograf |
AutoLateralCA | 0 |
BitsPerSample | 8 |
Blacks2012 | +38 |
BlueHue | 0 |
BlueSaturation | 0 |
By-line | Gunnar Holten |
By-lineTitle | Fotograf |
CameraProfile | Adobe Standard |
CFAPattern | [Green,Blue][Red,Green] |
CircleOfConfusion | 0.020 mm |
Clarity2012 | +53 |
ColorComponents | 3 |
ColorMode | RGB |
ColorNoiseReduction | 25 |
ColorNoiseReductionDetail | 50 |
ColorSpace | Uncalibrated |
ColorTemperature | 7500 |
Contrast | Normal |
Contrast2012 | 0 |
ConvertToGrayscale | False |
Copyright | (C)2011 Gunnar Holten, all rights reserved |
CopyrightNotice | (C)2011 Gunnar Holten, all rights reserved |
CreateDate | 2012:11:09 17:01:25 |
Creator | Gunnar Holten |
CreatorAddress | Tverrvegen 1E |
CreatorCity | 7560 Vikhammer |
CreatorTool | Nikon Transfer 1.5 W |
CropAngle | 0.357647 |
CropBottom | 1 |
CropConstrainToWarp | 1 |
CropLeft | 0.006709 |
CropRight | 0.993291 |
CropTop | 0 |
CustomRendered | Normal |
DateCreated (1) | 2012:11:09 |
DateCreated | 2012:11:09 17:01:25 |
DateTimeOriginal | 2012:11:09 17:01:25 |
DefringeGreenAmount | 0 |
DefringeGreenHueHi | 60 |
DefringeGreenHueLo | 40 |
DefringePurpleAmount | 0 |
DefringePurpleHueHi | 70 |
DefringePurpleHueLo | 30 |
DigitalZoomRatio | 1 |
DOF | inf (0.31 m - inf) |
ExifImageHeight | 2224 |
ExifImageWidth | 3910 |
Exposure2012 | +1.35 |
ExposureCompensation | 0 |
ExposureMode | Manual |
ExposureProgram | Manual |
ExposureTime | 102 |
Flash | No Flash |
FNumber | 16.0 |
FocalLength | 10.0 mm |
FocalLength35efl | 10.0 mm (35 mm equivalent: 15.0 mm) |
FocalLengthIn35mmFormat | 15 mm |
Format | image/jpeg |
FOV | 100.4 deg |
GainControl | None |
GrainAmount | 0 |
GreenHue | 0 |
GreenSaturation | 0 |
HasCrop | True |
HasSettings | True |
Highlights2012 | -78 |
HueAdjustmentAqua | 0 |
HueAdjustmentBlue | 0 |
HueAdjustmentGreen | 0 |
HueAdjustmentMagenta | 0 |
HueAdjustmentOrange | 0 |
HueAdjustmentPurple | 0 |
HueAdjustmentRed | 0 |
HueAdjustmentYellow | 0 |
HyperfocalDistance | 0.31 m |
ICCProfileName | Adobe RGB (1998) |
ImageHeight | 2224 |
ImageNumber | 5110 |
ImageSize | 3910x2224 |
ImageWidth | 3910 |
ISO | 200 |
Lens | 10.0-20.0 mm f/4.0-5.6 |
LensID (1) | 72 |
LensID | Sigma 10-20mm F4-5.6 EX DC HSM |
LensInfo | 10-20mm f/4-5.6 |
LensManualDistortionAmount | 0 |
LensModel | 10.0-20.0 mm f/4.0-5.6 |
LensProfileEnable | 0 |
LensProfileSetup | LensDefaults |
LightSource | Unknown |
LightValue | 0.3 |
LuminanceAdjustmentAqua | 0 |
LuminanceAdjustmentBlue | 0 |
LuminanceAdjustmentGreen | 0 |
LuminanceAdjustmentMagenta | 0 |
LuminanceAdjustmentOrange | 0 |
LuminanceAdjustmentPurple | 0 |
LuminanceAdjustmentRed | 0 |
LuminanceAdjustmentYellow | 0 |
LuminanceSmoothing | 0 |
Make | NIKON CORPORATION |
MaxApertureValue | 4.0 |
Megapixels | 8.7 |
MeteringMode | Spot |
Model | NIKON D90 |
ModifyDate (1) | 2012:11:09 19:41:40+01:00 |
ModifyDate | 2012:11:09 19:41:40 |
Orientation | Horizontal (normal) |
ParametricDarks | 0 |
ParametricHighlights | 0 |
ParametricHighlightSplit | 75 |
ParametricLights | 0 |
ParametricMidtoneSplit | 50 |
ParametricShadows | 0 |
ParametricShadowSplit | 25 |
PerspectiveHorizontal | 0 |
PerspectiveRotate | 0.0 |
PerspectiveScale | 100 |
PerspectiveVertical | 0 |
PostCropVignetteAmount | 0 |
ProcessVersion | 6.7 |
ProfileDescription | Adobe RGB (1998) |
Rating | 0 |
RatingPercent | 0 |
RawFileName | DSC_0003.NEF |
RedHue | 0 |
RedSaturation | 0 |
Rights | (C)2011 Gunnar Holten, all rights reserved |
Saturation (1) | +14 |
Saturation | Normal |
SaturationAdjustmentAqua | 0 |
SaturationAdjustmentBlue | 0 |
SaturationAdjustmentGreen | 0 |
SaturationAdjustmentMagenta | 0 |
SaturationAdjustmentOrange | 0 |
SaturationAdjustmentPurple | 0 |
SaturationAdjustmentRed | 0 |
SaturationAdjustmentYellow | 0 |
ScaleFactor35efl | 1.5 |
SceneCaptureType | Standard |
SceneType | Directly photographed |
SensingMethod | One-chip color area |
SerialNumber | 6230639 |
Shadows2012 | +34 |
ShadowTint | 0 |
SharpenDetail | 25 |
SharpenEdgeMasking | 0 |
SharpenRadius | +1.0 |
Sharpness (1) | 25 |
Sharpness | Normal |
ShutterSpeed | 102 |
ShutterSpeedValue | 102 |
Software | Adobe Photoshop CS6 (Windows) |
SplitToningBalance | 0 |
SplitToningHighlightHue | 0 |
SplitToningHighlightSaturation | 0 |
SplitToningShadowHue | 0 |
SplitToningShadowSaturation | 0 |
SubjectDistanceRange | Unknown |
Tint | +10 |
ToneCurveName2012 | Linear |
ToneCurvePV2012 | 0, 0, 255, 255 |
ToneCurvePV2012Blue | 0, 0, 255, 255 |
ToneCurvePV2012Green | 0, 0, 255, 255 |
ToneCurvePV2012Red | 0, 0, 255, 255 |
URL_List | |
UsageTerms | For consideration only, no reproduction without prior permission |
Version | 7.2 |
Vibrance | -1 |
VignetteAmount | 0 |
WhiteBalance (1) | Shade |
WhiteBalance | Auto |
Whites2012 | -48 |